Workbook

Sheet SNWBL
A1: SNEEUWBALTELEFOON 2012-2013
I2: Willemijn | L2: Sam | M2: 0229-501295
F3: Fadi
C4: Jesse | F4: 0229-404593
C5: 0226-355959 | F5: Dave
F6: 0229-543710
I7: Daan | L7: mark | M7: 0229-212843
B8: Marit
B9: 0229-581955
I10: Stijn | J10: 0229-504274 | L10: Wilco | M10: 0299-681906
F11: Richard
C12: Jelle
C13: 0299-350402 | F13: Doris
F14: 0229-234611
I15: Maxim | J15: 0229-217685 | L15: =Klas!B55 | M15: =Klas!C55 -> 0
A16: Amy Steur
A17: 0299-351305 | C17: Werenfridus
C18: Telefoon: 0229-285828
I19: Piet en Henk | J19: 0229-239556 | L19: =Klas!B57 | M19: =Klas!C57 -> 0
F20: Demi
C21: Robin | F21: 0229-573801
C22: 0229-543309 | F22: Eline
F23: 0229-574663
I24: Oscar | J24: 0229-261261 | L24: =Klas!B59 | M24: =Klas!C59 -> 0
B25: Jet
B26: 0229-358103
I27: Max | J27: 0229-551778 | L27: =Klas!B61 | M27: =Klas!C61 -> 0
F28: Pascal
C29: Dana | F29: 0229-553302
C30: 0229-575063 | F30: Brechje
F31: 0229-218124
A32: Klas/Cluster: | B32: C2X | I32: Nienke | J32: 0229-234924 | L32: =Klas!B63 | M32: =Klas!C63 -> 0
A33: Docent: | B33: KNOB
A34: Vak: | B34: Mentor

Sheet instructie
A1: * | B1: exporteer het gewenste ll-bestand uit magister
A2: * | B2: open het in excel
A3: * | B3: open dit bestand in excel, sla het op (save as) met de naam van je klas en wis het evt. op het blad 'Plakblad' aanwezige blok ll.
A4: * | B4: selecteer de uit magister ge-exporteerde ll-gegevens en plak op het blad 'Plakblad' in cel A1
A5: * | B5: vervang de ll-nummers door de (gedeeltelijke) belvolgorde
A6: * | B6: selecteer het hele blok, ga naar data/sorteren en kies de kolom met de ll-nummers als sorteersleutel
A7: * | B7: verwijder alle kolommen behalve ll-nummer, naam, tussenvoegsel, achternaam en telefoonnr
A8: * | B8: plak het resterende, gesorteerde blok op het blad 'Klas' in cel A1
A9: * | B9: vul klas, docent en vak in op het blad 'SNWBL'
A10: * | B10: opslaan en printen

Sheet Plakblad

Sheet Klas
B33: =CONCATENATE(B1," ",C1," ",D1) | C33: =E1 -> 0
B34: =CONCATENATE(B2," ",C2," ",D2) | C34: =E2 -> 0
B35: =CONCATENATE(B3," ",C3," ",D3) | C35: =E3 -> 0
B36: =CONCATENATE(B4," ",C4," ",D4) | C36: =E4 -> 0
B37: =CONCATENATE(B5," ",C5," ",D5) | C37: =E5 -> 0
B38: =CONCATENATE(B6," ",C6," ",D6) | C38: =E6 -> 0
B39: =CONCATENATE(B7," ",C7," ",D7) | C39: =E7 -> 0
B40: =CONCATENATE(B8," ",C8," ",D8) | C40: =E8 -> 0
B41: =CONCATENATE(B9," ",C9," ",D9) | C41: =E9 -> 0
B42: =CONCATENATE(B10," ",C10," ",D10) | C42: =E10 -> 0
B43: =CONCATENATE(B11," ",C11," ",D11) | C43: =E11 -> 0
B44: =CONCATENATE(B12," ",C12," ",D12) | C44: =E12 -> 0
... B63: =CONCATENATE(B31," ",C31," ",D31) | C63: =E31 -> 0
